BEGIN:VCALENDAR
METHOD:PUBLISH
PRODID:-//github.com/rianjs/ical.net//NONSGML ical.net 4.0//EN
URL:https://cov-dev.ukmsl.net/ents/event/ics/10315/
VERSION:2.0
X-PUBLISHED-TTL:PT1H
X-WR-CALNAME:First Equip - Church Search (10315)
BEGIN:VTIMEZONE
TZID:GMT Standard Time
X-LIC-LOCATION:Europe/London
BEGIN:STANDARD
DTSTART:20241027T020000
RRULE:FREQ=YEARLY;BYDAY=4SU;BYMONTH=10
TZNAME:GMT
TZOFFSETFROM:+0100
TZOFFSETTO:+0000
END:STANDARD
BEGIN:DAYLIGHT
DTSTART:20250330T010000
RRULE:FREQ=YEARLY;BYDAY=-1SU;BYMONTH=3
TZNAME:BST
TZOFFSETFROM:+0000
TZOFFSETTO:+0100
END:DAYLIGHT
END:VTIMEZONE
BEGIN:VEVENT
CREATED:20240813T212824
DESCRIPTION:Our first Equip of the year! \n\nAll are welcome\, we will be 
 talking about what CU is before hearing about the local churches of Coven
 try that our members attend.\n\nhttps://cov-dev.ukmsl.net/events/6291/103
 15/\n
DTEND:20240926T210000
DTSTAMP:20260423T103523Z
DTSTART:20240926T184500
LAST-MODIFIED:20240909T154326
LOCATION:Spirituality & Faith Centre @ The Hub
SEQUENCE:0
SUMMARY:First Equip - Church Search
UID:634fc8ea-a7ad-49d8-9957-55e0051f765a
URL:https://cov-dev.ukmsl.net/events/6291/10315/
X-ALT-DESC;FMTTYPE=text/html:<html><head><base href="https://cov-dev.ukmsl
 .net"></head><body><p>Our first Equip of the year! \n\nAll are welcome\, 
 we will be talking about what CU is before hearing about the local church
 es of Coventry that our members attend.</p><p>https://cov-dev.ukmsl.net/e
 vents/6291/10315/</p>\n<p>If I&#39\;m already in the CU\, why do I need t
 o be part of a church? Come find out why churches are important and meet 
 student workers and leaders from churches in Coventry.&nbsp\;</p></body><
 /html>
END:VEVENT
END:VCALENDAR
