BEGIN:VCALENDAR
METHOD:PUBLISH
PRODID:-//github.com/rianjs/ical.net//NONSGML ical.net 4.0//EN
URL:https://cov-dev.ukmsl.net/ents/event/ics/10528/
VERSION:2.0
X-PUBLISHED-TTL:PT1H
X-WR-CALNAME:Commercial Awareness Competition Introduction (10528)
BEGIN:VTIMEZONE
TZID:GMT Standard Time
X-LIC-LOCATION:Europe/London
BEGIN:STANDARD
DTSTART:20241027T020000
RRULE:FREQ=YEARLY;BYDAY=4SU;BYMONTH=10
TZNAME:GMT
TZOFFSETFROM:+0100
TZOFFSETTO:+0000
END:STANDARD
BEGIN:DAYLIGHT
DTSTART:20250330T010000
RRULE:FREQ=YEARLY;BYDAY=-1SU;BYMONTH=3
TZNAME:BST
TZOFFSETFROM:+0000
TZOFFSETTO:+0100
END:DAYLIGHT
END:VTIMEZONE
BEGIN:VEVENT
CATEGORIES:Coventry University (Coventry campus)
CREATED:20240925T094427
DESCRIPTION:Think Smart\, Act Sharp: Commercial Awareness Challenge!\n\nht
 tps://cov-dev.ukmsl.net/events/6648/10528/\n
DTEND:20241016T190000
DTSTAMP:20260422T160828Z
DTSTART:20241016T170000
LAST-MODIFIED:20241014T114435
LOCATION:
SEQUENCE:0
SUMMARY:Commercial Awareness Competition Introduction
UID:745c8f10-5fd7-40e5-abb0-ae0ff4c5b9d1
URL:https://cov-dev.ukmsl.net/events/6648/10528/
X-ALT-DESC;FMTTYPE=text/html:<html><head><base href="https://cov-dev.ukmsl
 .net"></head><body><p>Think Smart\, Act Sharp: Commercial Awareness Chall
 enge!</p><p>https://cov-dev.ukmsl.net/events/6648/10528/</p>\n<p>Are you 
 ready to put your business acumen to the test? Join us for the&nbsp\;<str
 ong>Commercial Awareness Competition</strong>&nbsp\;hosted by the Law Soc
 iety! This exciting event is designed to challenge your understanding of 
 the commercial world and enhance your ability to think strategically abou
 t business and legal issues.</p>\n\n<p>&nbsp\;</p>\n\n<p><strong>What is 
 Commercial Awareness?</strong></p>\n\n<p>Commercial awareness is the unde
 rstanding of how businesses operate\, the factors that influence them\, a
 nd the broader economic and legal environment in which they function. It&
 rsquo\;s a crucial skill for any aspiring lawyer\, as it helps you provid
 e better advice to clients and make informed decisions.</p>\n\n<p>&nbsp\;
 </p>\n\n<p><strong>What to Expect:</strong></p>\n\n<ul>\n	<li><strong>Cha
 llenging Scenarios:</strong>&nbsp\;Compete in teams to solve real-world b
 usiness problems. You&rsquo\;ll be presented with scenarios that require 
 you to analyze information\, develop strategies\, and propose solutions.<
 /li>\n	<li><strong>Expert Judges:</strong>&nbsp\;Our panel of judges\, co
 nsisting of legal and business professionals\, will evaluate your perform
 ance. Gain insights from their feedback and learn what it takes to excel 
 in the commercial world.</li>\n	<li><strong>Interactive Workshops:</stron
 g>&nbsp\;Participate in workshops that cover key aspects of commercial aw
 areness\, including market analysis\, financial literacy\, and strategic 
 thinking. These sessions will equip you with the knowledge and skills nee
 ded for the competition.</li>\n	<li><strong>Networking Opportunities:</st
 rong>&nbsp\;Connect with fellow competitors\, professionals\, and members
  of the Law Society. Build your network\, share your experiences\, and le
 arn from others.</li>\n	<li><strong>Prizes and Recognition:</strong>&nbsp
 \;Compete for exciting prizes and the chance to be recognized as a top pe
 rformer in commercial awareness. Showcase your skills and stand out to po
 tential employers.</li>\n</ul>\n\n<p>&nbsp\;</p>\n\n<p><strong>Why Attend
 ?</strong></p>\n\n<ul>\n	<li><strong>Skill Development:</strong>&nbsp\;En
 hance your commercial awareness\, a vital skill for any legal career. Lea
 rn how to think critically about business issues and develop practical so
 lutions.</li>\n	<li><strong>Career Advancement:</strong>&nbsp\;Demonstrat
 e your commercial acumen to potential employers. Participation in this co
 mpetition will look great on your CV and help you stand out in job applic
 ations.</li>\n	<li><strong>Confidence Building:</strong>&nbsp\;Gain confi
 dence in your ability to analyze and solve complex business problems. The
  competition provides a supportive environment to practice and improve yo
 ur skills.</li>\n	<li><strong>Community Engagement:</strong>&nbsp\;Engage
  with the Law Society community and support each other in your profession
 al journeys. This event is a great way to get involved and make the most 
 of your membership.</li>\n</ul></body></html>
END:VEVENT
END:VCALENDAR
