BEGIN:VCALENDAR
METHOD:PUBLISH
PRODID:-//github.com/rianjs/ical.net//NONSGML ical.net 4.0//EN
URL:https://cov-dev.ukmsl.net/ents/event/ics/11369/
VERSION:2.0
X-PUBLISHED-TTL:PT1H
X-WR-CALNAME:Thursday Takeover (11369)
BEGIN:VTIMEZONE
TZID:GMT Standard Time
X-LIC-LOCATION:Europe/London
BEGIN:STANDARD
DTSTART:20241027T020000
RRULE:FREQ=YEARLY;BYDAY=4SU;BYMONTH=10
TZNAME:GMT
TZOFFSETFROM:+0100
TZOFFSETTO:+0000
END:STANDARD
BEGIN:DAYLIGHT
DTSTART:20250330T010000
RRULE:FREQ=YEARLY;BYDAY=-1SU;BYMONTH=3
TZNAME:BST
TZOFFSETFROM:+0000
TZOFFSETTO:+0100
END:DAYLIGHT
END:VTIMEZONE
BEGIN:VEVENT
CATEGORIES:CU Scarborough
CREATED:20250707T162209
DESCRIPTION:Thursday Takeover – a relaxed\, social space for students to c
 ome together\, connect across courses and year groups\, and discover more
  about the support available at uni.\n\nhttps://cov-dev.ukmsl.net/ents/ev
 ent/11369/\n
DTEND:20260507T133000
DTSTAMP:20260420T034541Z
DTSTART:20260507T110000
LAST-MODIFIED:20251028T093411
LOCATION:Ground Floor Foyer\, CU Scarborough\,
SEQUENCE:0
SUMMARY:Thursday Takeover
UID:09f69a19-9ca2-432e-bd8b-a84121f7df1b
URL:https://cov-dev.ukmsl.net/ents/event/11369/
X-ALT-DESC;FMTTYPE=text/html:<html><head><base href="https://cov-dev.ukmsl
 .net"></head><body><p>Thursday Takeover – a relaxed\, social space for st
 udents to come together\, connect across courses and year groups\, and di
 scover more about the support available at uni.</p><p>https://cov-dev.ukm
 sl.net/ents/event/11369/</p>\n<p>🎉 Thursday Takeover is Here! 🎉&nbsp\;<
 /p>\n\n<p>&nbsp\;<br />\nLooking to meet new people\, take a break from s
 tudy\, and have some fun on campus?&nbsp\;</p>\n\n<p>Join Your SU for Thu
 rsday Takeover &ndash\; a relaxed\, social space for students to come tog
 ether\, connect across courses and year groups\, and discover more about 
 the support available at uni.&nbsp\;</p>\n\n<p>🗓 When: Thursdays of Week
  1 and Week 3 of each block<br />\n🕚 Time: 11:00 AM &ndash\; 1:30 PM&nbs
 p\;<br />\n📍 Where: Ground Floor Foyer&nbsp\;</p>\n\n<p>Expect:&nbsp\;<b
 r />\n🎮 Nintendo\, card &amp\; board games&nbsp\;<br />\n🎧 Music &amp\;
  chill vibes&nbsp\;<br />\n🎁 Spin the Wheel (with prizes!)&nbsp\;<br />\
 n🎨 Badge making&nbsp\;<br />\n✨ Pop-up sessions from the Talent Team\, S
 uccess Coach &amp\; Library&nbsp\;<br />\n&hellip\; and more!&nbsp\;</p>\
 n\n<p>Come by\, bring a friend\, or just drop in and say hi. Everyone&rsq
 uo\;s welcome &ndash\; we&rsquo\;d love to see you there!&nbsp\;</p>\n\n<
 p>&nbsp\;</p></body></html>
END:VEVENT
END:VCALENDAR
