BEGIN:VCALENDAR
METHOD:PUBLISH
PRODID:-//github.com/rianjs/ical.net//NONSGML ical.net 4.0//EN
URL:https://cov-dev.ukmsl.net/ents/event/ics/11413/
VERSION:2.0
X-PUBLISHED-TTL:PT1H
X-WR-CALNAME:Connected-friend making (11413)
BEGIN:VTIMEZONE
TZID:GMT Standard Time
X-LIC-LOCATION:Europe/London
BEGIN:STANDARD
DTSTART:20241027T020000
RRULE:FREQ=YEARLY;BYDAY=4SU;BYMONTH=10
TZNAME:GMT
TZOFFSETFROM:+0100
TZOFFSETTO:+0000
END:STANDARD
BEGIN:DAYLIGHT
DTSTART:20250330T010000
RRULE:FREQ=YEARLY;BYDAY=-1SU;BYMONTH=3
TZNAME:BST
TZOFFSETFROM:+0000
TZOFFSETTO:+0100
END:DAYLIGHT
END:VTIMEZONE
BEGIN:VEVENT
CATEGORIES:Coventry University London
CATEGORIES:Welcome
CATEGORIES:Unlocking London
CATEGORIES:Your Voice
CREATED:20250811T142915
DESCRIPTION:Get Connected – Meet Friends\, Build Community A relaxed\, fri
 endly session with icebreakers\, light networking\, and music to help you
  connect from day one\, with refreshments and games to spark conversation
 .\n\nhttps://cov-dev.ukmsl.net/ents/event/11413/\n
DTEND:20260527T140000
DTSTAMP:20260420T041644Z
DTSTART:20260527T130000
LAST-MODIFIED:20250811T142915
LOCATION:University House London Campus 3rd Floor
SEQUENCE:0
SUMMARY:Connected-friend making
UID:e772537f-b39d-4418-9b77-8df65721c11a
URL:https://cov-dev.ukmsl.net/ents/event/11413/
X-ALT-DESC;FMTTYPE=text/html:<html><head><base href="https://cov-dev.ukmsl
 .net"></head><body><p>Get Connected – Meet Friends\, Build Community A re
 laxed\, friendly session with icebreakers\, light networking\, and music 
 to help you connect from day one\, with refreshments and games to spark c
 onversation.</p><p>https://cov-dev.ukmsl.net/ents/event/11413/</p>\n</bod
 y></html>
END:VEVENT
END:VCALENDAR
