BEGIN:VCALENDAR
METHOD:PUBLISH
PRODID:-//github.com/rianjs/ical.net//NONSGML ical.net 4.0//EN
URL:https://cov-dev.ukmsl.net/ents/event/ics/11417/
VERSION:2.0
X-PUBLISHED-TTL:PT1H
X-WR-CALNAME:Social Evening (11417)
BEGIN:VTIMEZONE
TZID:GMT Standard Time
X-LIC-LOCATION:Europe/London
BEGIN:STANDARD
DTSTART:20241027T020000
RRULE:FREQ=YEARLY;BYDAY=4SU;BYMONTH=10
TZNAME:GMT
TZOFFSETFROM:+0100
TZOFFSETTO:+0000
END:STANDARD
BEGIN:DAYLIGHT
DTSTART:20250330T010000
RRULE:FREQ=YEARLY;BYDAY=-1SU;BYMONTH=3
TZNAME:BST
TZOFFSETFROM:+0000
TZOFFSETTO:+0100
END:DAYLIGHT
END:VTIMEZONE
BEGIN:VEVENT
CATEGORIES:Coventry University London
CATEGORIES:Welcome
CATEGORIES:Unlocking London
CREATED:20250811T150004
DESCRIPTION:A Night to Connect\, an informal event with music\, refreshmen
 ts\, and light entertainment\, giving students a chance to chat\, relax\,
  and enjoy the evening together.\n\nhttps://cov-dev.ukmsl.net/ents/event/
 11417/\n
DTEND;VALUE=DATE:20260709
DTSTAMP:20260420T060443Z
DTSTART;VALUE=DATE:20260708
LAST-MODIFIED:20250811T150004
LOCATION:University House London Campus
SEQUENCE:0
SUMMARY:Social Evening
UID:44e2038c-3f26-4c3e-b085-900676124d45
URL:https://cov-dev.ukmsl.net/ents/event/11417/
X-ALT-DESC;FMTTYPE=text/html:<html><head><base href="https://cov-dev.ukmsl
 .net"></head><body><p>A Night to Connect\, an informal event with music\,
  refreshments\, and light entertainment\, giving students a chance to cha
 t\, relax\, and enjoy the evening together.</p><p>https://cov-dev.ukmsl.n
 et/ents/event/11417/</p>\n</body></html>
END:VEVENT
END:VCALENDAR
