BEGIN:VCALENDAR
METHOD:PUBLISH
PRODID:-//github.com/rianjs/ical.net//NONSGML ical.net 4.0//EN
URL:https://cov-dev.ukmsl.net/ents/event/ics/12465/
VERSION:2.0
X-PUBLISHED-TTL:PT1H
X-WR-CALNAME:Clay with Mosaic tiles (12465)
BEGIN:VTIMEZONE
TZID:GMT Standard Time
X-LIC-LOCATION:Europe/London
BEGIN:STANDARD
DTSTART:20241027T020000
RRULE:FREQ=YEARLY;BYDAY=4SU;BYMONTH=10
TZNAME:GMT
TZOFFSETFROM:+0100
TZOFFSETTO:+0000
END:STANDARD
BEGIN:DAYLIGHT
DTSTART:20250330T010000
RRULE:FREQ=YEARLY;BYDAY=-1SU;BYMONTH=3
TZNAME:BST
TZOFFSETFROM:+0000
TZOFFSETTO:+0100
END:DAYLIGHT
END:VTIMEZONE
BEGIN:VEVENT
CATEGORIES:Give it a Go
CATEGORIES:CU Coventry
CATEGORIES:Societies
CATEGORIES:Communities
CATEGORIES:Featured
CATEGORIES:Square One
CATEGORIES:Wellbeing
CREATED:20260423T163804
DESCRIPTION:Tickets for non-members (but our membership is only £2.00) 🥰✨
 ✨\n\nhttps://cov-dev.ukmsl.net/events/6158/12465/\n
DTEND:20260428T200000
DTSTAMP:20260424T034945Z
DTSTART:20260428T180000
LAST-MODIFIED:20260423T163804
LOCATION:Courtyard Zone 2\, The Hub
SEQUENCE:0
SUMMARY:Clay with Mosaic tiles
UID:8bf4cc0e-1bcb-4832-8fdc-59ba3e60795f
URL:https://cov-dev.ukmsl.net/events/6158/12465/
X-ALT-DESC;FMTTYPE=text/html:<html><head><base href="https://cov-dev.ukmsl
 .net"></head><body><p>Tickets for non-members (but our membership is only
  £2.00) 🥰✨✨</p><p>https://cov-dev.ukmsl.net/events/6158/12465/</p>\n</bo
 dy></html>
END:VEVENT
END:VCALENDAR
