BEGIN:VCALENDAR
METHOD:PUBLISH
PRODID:-//github.com/rianjs/ical.net//NONSGML ical.net 4.0//EN
URL:https://cov-dev.ukmsl.net/ents/event/ics/12466/
VERSION:2.0
X-PUBLISHED-TTL:PT1H
X-WR-CALNAME:Wire Sculpting (12466)
BEGIN:VTIMEZONE
TZID:GMT Standard Time
X-LIC-LOCATION:Europe/London
BEGIN:STANDARD
DTSTART:20241027T020000
RRULE:FREQ=YEARLY;BYDAY=4SU;BYMONTH=10
TZNAME:GMT
TZOFFSETFROM:+0100
TZOFFSETTO:+0000
END:STANDARD
BEGIN:DAYLIGHT
DTSTART:20250330T010000
RRULE:FREQ=YEARLY;BYDAY=-1SU;BYMONTH=3
TZNAME:BST
TZOFFSETFROM:+0000
TZOFFSETTO:+0100
END:DAYLIGHT
END:VTIMEZONE
BEGIN:VEVENT
CATEGORIES:Give it a Go
CATEGORIES:Societies
CATEGORIES:Communities
CATEGORIES:Featured
CATEGORIES:Square One
CATEGORIES:Wellbeing
CREATED:20260423T170854
DESCRIPTION:https://cov-dev.ukmsl.net/events/6158/12466/\n
DTEND:20260505T200000
DTSTAMP:20260424T035442Z
DTSTART:20260505T180000
LAST-MODIFIED:20260423T170854
LOCATION:Courtyard Zone 2\, The Hub
SEQUENCE:0
SUMMARY:Wire Sculpting
UID:24ad7d23-439c-4521-9986-90ca9b9e0476
URL:https://cov-dev.ukmsl.net/events/6158/12466/
X-ALT-DESC;FMTTYPE=text/html:<html><head><base href="https://cov-dev.ukmsl
 .net"></head><body><p>https://cov-dev.ukmsl.net/events/6158/12466/</p>\n<
 /body></html>
END:VEVENT
END:VCALENDAR
