BEGIN:VCALENDAR
METHOD:PUBLISH
PRODID:-//github.com/rianjs/ical.net//NONSGML ical.net 4.0//EN
URL:https://cov-dev.ukmsl.net/ents/event/ics/12468/
VERSION:2.0
X-PUBLISHED-TTL:PT1H
X-WR-CALNAME:Phoenix+: How to Write a CV and Cover Letter (12468)
BEGIN:VTIMEZONE
TZID:GMT Standard Time
X-LIC-LOCATION:Europe/London
BEGIN:STANDARD
DTSTART:20241027T020000
RRULE:FREQ=YEARLY;BYDAY=4SU;BYMONTH=10
TZNAME:GMT
TZOFFSETFROM:+0100
TZOFFSETTO:+0000
END:STANDARD
BEGIN:DAYLIGHT
DTSTART:20250330T010000
RRULE:FREQ=YEARLY;BYDAY=-1SU;BYMONTH=3
TZNAME:BST
TZOFFSETFROM:+0000
TZOFFSETTO:+0100
END:DAYLIGHT
END:VTIMEZONE
BEGIN:VEVENT
CATEGORIES:Societies
CATEGORIES:Society Committee Members
CREATED:20260424T152010
DESCRIPTION:CV and cover letter workshop. Ensure you sign up via Pheonix+ 
 to attend.\n\nhttps://cov-dev.ukmsl.net/ents/event/12468/\n
DTEND:20260427T150000
DTSTAMP:20260424T213717Z
DTSTART:20260427T140000
LAST-MODIFIED:20260424T153602
LOCATION:The Hub
SEQUENCE:0
SUMMARY:Phoenix+: How to Write a CV and Cover Letter
UID:f7dce82b-a817-4f1b-b872-06321a02e033
URL:https://cov-dev.ukmsl.net/ents/event/12468/
X-ALT-DESC;FMTTYPE=text/html:<html><head><base href="https://cov-dev.ukmsl
 .net"></head><body><p>CV and cover letter workshop. Ensure you sign up vi
 a Pheonix+ to attend.</p><p>https://cov-dev.ukmsl.net/ents/event/12468/</
 p>\n<p>This is an event run by Pheonix+ that would benefit committee memb
 ers and help them improve their skills and employability. It would also b
 e beneficial as it could help with determining the best way to use your c
 ommittee experience when applying to jobs.&nbsp\;</p>\n\n<p>Join this int
 eractive session to learn the basics of creating a strong CV and cover le
 tter\, including structure\, key content\, and common mistakes to avoid. 
 We&rsquo\;ll also explore strategies like customising your application fo
 r specific roles and using AI tools to improve your documents. Whether yo
 u&rsquo\;re starting from the ground up or refining your approach\, this 
 workshop will provide practical tips to make your applications stand out.
 </p>\n\n<p>Sign up here-&nbsp\;<a href="https://coventry.potential.ly/pla
 ylists/targetevents-covonly/cards/cv-apr26/page/1">Coventry University - 
 Phoenix+ | Playlists | How to Write a CV and Cover Letter</a>&nbsp\;</p><
 /body></html>
END:VEVENT
END:VCALENDAR
