BEGIN:VCALENDAR
METHOD:PUBLISH
PRODID:-//github.com/rianjs/ical.net//NONSGML ical.net 4.0//EN
URL:https://cov-dev.ukmsl.net/ents/event/ics/12470/
VERSION:2.0
X-PUBLISHED-TTL:PT1H
X-WR-CALNAME:Pheonix+: Part-Time Jobs- How to Find and Apply (12470)
BEGIN:VTIMEZONE
TZID:GMT Standard Time
X-LIC-LOCATION:Europe/London
BEGIN:STANDARD
DTSTART:20241027T020000
RRULE:FREQ=YEARLY;BYDAY=4SU;BYMONTH=10
TZNAME:GMT
TZOFFSETFROM:+0100
TZOFFSETTO:+0000
END:STANDARD
BEGIN:DAYLIGHT
DTSTART:20250330T010000
RRULE:FREQ=YEARLY;BYDAY=-1SU;BYMONTH=3
TZNAME:BST
TZOFFSETFROM:+0000
TZOFFSETTO:+0100
END:DAYLIGHT
END:VTIMEZONE
BEGIN:VEVENT
CATEGORIES:Societies
CATEGORIES:Society Committee Members
CREATED:20260424T154009
DESCRIPTION:Event with advice and guidance on part-time jobs. This event i
 s run by Pheonix+ so make sure to sign up through them.\n\nhttps://cov-de
 v.ukmsl.net/ents/event/12470/\n
DTEND:20260429T150000
DTSTAMP:20260424T211717Z
DTSTART:20260429T140000
LAST-MODIFIED:20260424T154009
LOCATION:The Hub
SEQUENCE:0
SUMMARY:Pheonix+: Part-Time Jobs- How to Find and Apply
UID:27fb2c2d-e516-403a-8c4e-33a6ff05c4a4
URL:https://cov-dev.ukmsl.net/ents/event/12470/
X-ALT-DESC;FMTTYPE=text/html:<html><head><base href="https://cov-dev.ukmsl
 .net"></head><body><p>Event with advice and guidance on part-time jobs. T
 his event is run by Pheonix+ so make sure to sign up through them.</p><p>
 https://cov-dev.ukmsl.net/ents/event/12470/</p>\n<p>This event could bene
 fit committee members by helping them find out the best ways to use their
  committee experience and skills to help get a part-time job.</p>\n\n<p>L
 ooking for a part‑time job but not sure where to start? This practical se
 ssion will guide you through how to find and apply for part‑time roles al
 ongside your studies. You&rsquo\;ll learn where to search for vacancies\,
  how to make your applications stand out\, and how to identify and showca
 se the transferable skills that will support your future career.</p>\n\n<
 p>Whether you&#39\;re new to job searching or just need a confidence boos
 t\, this session will give you the tools and tips you need to get started
 .</p>\n\n<p>Sign up here:&nbsp\;<a href="https://coventry.potential.ly/pl
 aylists/targetevents-covonly/cards/parttimejobs4/page/1">Coventry Univers
 ity - Phoenix+ | Playlists | Part-Time Jobs: How to Find and Apply</a></p
 ></body></html>
END:VEVENT
END:VCALENDAR
