BEGIN:VCALENDAR
METHOD:PUBLISH
PRODID:-//github.com/rianjs/ical.net//NONSGML ical.net 4.0//EN
URL:https://cov-dev.ukmsl.net/ents/event/ics/12471/
VERSION:2.0
X-PUBLISHED-TTL:PT1H
X-WR-CALNAME:Pheonix+: Ace Your Interview- From Prep to Performance (12471)
BEGIN:VTIMEZONE
TZID:GMT Standard Time
X-LIC-LOCATION:Europe/London
BEGIN:STANDARD
DTSTART:20241027T020000
RRULE:FREQ=YEARLY;BYDAY=4SU;BYMONTH=10
TZNAME:GMT
TZOFFSETFROM:+0100
TZOFFSETTO:+0000
END:STANDARD
BEGIN:DAYLIGHT
DTSTART:20250330T010000
RRULE:FREQ=YEARLY;BYDAY=-1SU;BYMONTH=3
TZNAME:BST
TZOFFSETFROM:+0000
TZOFFSETTO:+0100
END:DAYLIGHT
END:VTIMEZONE
BEGIN:VEVENT
CATEGORIES:Societies
CATEGORIES:Society Committee Members
CREATED:20260424T154340
DESCRIPTION:An event to help you learn interview tips. This event is run b
 y Pheonix+ so make sure to sign up through them.\n\nhttps://cov-dev.ukmsl
 .net/ents/event/12471/\n
DTEND:20260501T150000
DTSTAMP:20260424T213717Z
DTSTART:20260501T140000
LAST-MODIFIED:20260424T154340
LOCATION:The Hub
SEQUENCE:0
SUMMARY:Pheonix+: Ace Your Interview- From Prep to Performance
UID:4bdb96b8-2d03-40e9-9b0f-13bfddda3709
URL:https://cov-dev.ukmsl.net/ents/event/12471/
X-ALT-DESC;FMTTYPE=text/html:<html><head><base href="https://cov-dev.ukmsl
 .net"></head><body><p>An event to help you learn interview tips. This eve
 nt is run by Pheonix+ so make sure to sign up through them.</p><p>https:/
 /cov-dev.ukmsl.net/ents/event/12471/</p>\n<p>This event could help you le
 arn how to use examples from your time as a committee member in an interv
 iew and impress employers.&nbsp\;</p>\n\n<p>Unlock the secrets to intervi
 ew success in our dynamic interview workshop! Participants will develop t
 he art of creating winning examples and responses by refining their abili
 ty to identify and articulate key achievements.</p>\n\n<p>Sign up here:&n
 bsp\;<a href="https://coventry.potential.ly/playlists/targetevents-covonl
 y/cards/aceinterview-may26/page/1">Coventry University - Phoenix+ | Playl
 ists | Ace Your Interview: From Prep to Performance</a></p></body></html>
END:VEVENT
END:VCALENDAR
