BEGIN:VCALENDAR
METHOD:PUBLISH
PRODID:-//github.com/rianjs/ical.net//NONSGML ical.net 4.0//EN
URL:https://cov-dev.ukmsl.net/ents/event/ics/12472/
VERSION:2.0
X-PUBLISHED-TTL:PT1H
X-WR-CALNAME:Pheonix+: Introduction to Protective Behaviours for Future Le
 aders (12472)
BEGIN:VTIMEZONE
TZID:GMT Standard Time
X-LIC-LOCATION:Europe/London
BEGIN:STANDARD
DTSTART:20241027T020000
RRULE:FREQ=YEARLY;BYDAY=4SU;BYMONTH=10
TZNAME:GMT
TZOFFSETFROM:+0100
TZOFFSETTO:+0000
END:STANDARD
BEGIN:DAYLIGHT
DTSTART:20250330T010000
RRULE:FREQ=YEARLY;BYDAY=-1SU;BYMONTH=3
TZNAME:BST
TZOFFSETFROM:+0000
TZOFFSETTO:+0100
END:DAYLIGHT
END:VTIMEZONE
BEGIN:VEVENT
CATEGORIES:Societies
CATEGORIES:Society Committee Members
CREATED:20260424T155300
DESCRIPTION:Learn ways to help yourself and others feel safe. This event i
 s run by Pheonix+ so make sure to sign up with them.\n\nhttps://cov-dev.u
 kmsl.net/ents/event/12472/\n
DTEND:20260505T170000
DTSTAMP:20260424T212046Z
DTSTART:20260505T150000
LAST-MODIFIED:20260424T155300
LOCATION:Online
SEQUENCE:0
SUMMARY:Pheonix+: Introduction to Protective Behaviours for Future Leaders
UID:9902bb5e-c573-4576-b19c-68edc3122264
URL:https://cov-dev.ukmsl.net/ents/event/12472/
X-ALT-DESC;FMTTYPE=text/html:<html><head><base href="https://cov-dev.ukmsl
 .net"></head><body><p>Learn ways to help yourself and others feel safe. T
 his event is run by Pheonix+ so make sure to sign up with them.</p><p>htt
 ps://cov-dev.ukmsl.net/ents/event/12472/</p>\n<p>This event would be grea
 t for committee members\, especially Inclusion Officers. It could help yo
 u better support your members and spot when members are struggling.</p>\n
 \n<p>When people feel unsafe\, stressed\, or burnt out\, it can have a hu
 ge impact on their physical and mental health. Confidence\, productivity\
 , and the ability to make positive decisions all suffer. In today&rsquo\;
 s hybrid and remote environments\, spotting the early warning signs can b
 e challenging.</p>\n\n<p>This interactive workshop is designed for studen
 ts who want to learn practical strategies to keep themselves and others f
 eeling safe. You will explore the difference between being safe and feeli
 ng safe and discover how to recognise and respond when someone may be str
 uggling.</p>\n\n<p>The session is delivered by Stacey Mason\, founder of 
 Creative Optimistic Visions and a leading practitioner in Protective Beha
 viours\, an approach that empowers individuals to identify feelings of sa
 fety and take positive action. Stacey is a proud Coventry University grad
 uate and Guest-Lecturer\, making this a true success story and an inspiri
 ng example of where your learning can take you.</p>\n\n<p>This workshop i
 s perfect for anyone aspiring to management or leadership roles\, as it e
 quips you with essential skills to:</p>\n\n<p>+ Understand the principles
  of Protective Behaviours.</p>\n\n<p>+ Spot early signs of stress\, burno
 ut\, and feeling unsafe.</p>\n\n<p>+ Respond effectively and create safe\
 , supportive environments for others.</p>\n\n<p>Sign up here:&nbsp\;<a hr
 ef="https://coventry.potential.ly/playlists/targetevents-alluni/cards/pro
 tectivebehaviours4/page/1">Coventry University - Phoenix+ | Playlists | I
 ntroduction to Protective Behaviours for Future Leaders</a></p></body></h
 tml>
END:VEVENT
END:VCALENDAR
